BEGIN:VCALENDAR
VERSION:2.0
PRODID:-//ExpressionEngine Easy iCalendar plugin//NONSGML v2.0.1//EN
X-WR-TIMEZONE:America/New_York
X-WR-CALNAME:Upcoming Auctions
BEGIN:VEVENT
UID:92302
DTSTAMP:20221116T080000
DTSTART:20221116T080000
DTEND:20221128T130000
SUMMARY:Surry County Surplus - Antiques/Personal Property Auction
LOCATION:5096 Rockford Road\, Dobson\, NC 27017\, US
DESCRIPTION:Online Only Auction
URL:https://www.rogersauctiongroup.com/auctions/detail/bw92302
SEQUENCE:1
END:VEVENT
END:VCALENDAR