BEGIN:VCALENDAR
VERSION:2.0
PRODID:-//ExpressionEngine Easy iCalendar plugin//NONSGML v2.0.0//EN
X-WR-TIMEZONE:America/New_York
X-WR-CALNAME:Upcoming Auctions
BEGIN:VEVENT
UID:62840
DTSTAMP:20210419T080000
DTSTART:20210419T080000
DTEND:20210426T120000
SUMMARY:Personal Property Online Only Auction
LOCATION:212 Abner Lane\, Dobson\, NC 27017\, US
DESCRIPTION:Online Only | Furniture\, Kitchen Items\, Tools\, Glassware\, Pr
 incess House Collection & More!|Preview: Saturday\, April 24\,
  10:00am-12:00pm
URL:https://www.rogersauctiongroup.com/auctions/detail/bw62840
SEQUENCE:1
END:VEVENT
END:VCALENDAR