BEGIN:VCALENDAR
VERSION:2.0
PRODID:-//ExpressionEngine Easy iCalendar plugin//NONSGML v2.0.1//EN
X-WR-TIMEZONE:America/New_York
X-WR-CALNAME:Upcoming Auctions
BEGIN:VEVENT
UID:158147
DTSTAMP:20260427T080000
DTSTART:20260427T080000
DTEND:20260506T120000
SUMMARY:City of Winston-Salem Rolling Stock Auction | May 2026
LOCATION:1656 Park Drive\, Mount Airy\, NC 27030\, US
DESCRIPTION:The City of Winston-Salem Rolling Stock Auction features su
 rplus vehicles and equipment from an active city fleet. This
  online auction provides an opportunity to bid on trucks\, e
 quipment\, and fleet vehicles. Preview & Inspection: May 5 
 from 8:30 AM – 3:00 PM  
URL:https://www.rogersauctiongroup.com/auctions/detail/bw158147
SEQUENCE:1
END:VEVENT
END:VCALENDAR