BEGIN:VCALENDAR
VERSION:2.0
PRODID:-//ExpressionEngine Easy iCalendar plugin//NONSGML v2.0.1//EN
X-WR-TIMEZONE:America/New_York
X-WR-CALNAME:Upcoming Auctions
BEGIN:VEVENT
UID:155382
DTSTAMP:20260425T202858
DTSTART:20260425T202858
DTEND:19691231T200000
SUMMARY:Commissioner’s Sale: 23± Acres of Private Land with Mobil
 e Home in Mount Airy\, NC
LOCATION:110 Painted Fox Trail\, Mount Airy\, NC 27030\, US
DESCRIPTION:Pending 10-day upset bid process. Upset bids must be placed 
 at the Surry County Clerk of Court. 23± acres of private\, u
 sable land featuring a doublewide mobile home and an older o
 ne-room house. Property is well-suited for farming\, hunting\,
  recreational use\, or building your permanent or weekend res
 idence. Secluded setting with room to roam\, garden\, or enjoy
  the outdoors. Bid onsite April 18th at 10:00am.
URL:https://www.rogersauctiongroup.com/auctions/detail/bw155382
SEQUENCE:1
END:VEVENT
END:VCALENDAR