BEGIN:VCALENDAR
VERSION:2.0
PRODID:-//ExpressionEngine Easy iCalendar plugin//NONSGML v2.0.0//EN
X-WR-TIMEZONE:America/New_York
X-WR-CALNAME:Upcoming Auctions
BEGIN:VEVENT
UID:43355
DTSTAMP:20191105T092800
DTSTART:20191105T092800
DTEND:20191105T102800
SUMMARY:2 Building Lots on CP Riddle Trail\, Mount Airy\, NC
LOCATION:CP Riddle Trail\, Mount Airy\, NC 27030\, US
DESCRIPTION:Both Lots Selling Together
URL:https://www.rogersauctiongroup.com/auctions/detail/2-buildin
 g-lots-on-cp-riddle-trail-mount-airy-nc-bw43355
SEQUENCE:1
END:VEVENT
END:VCALENDAR